BEGIN:VCALENDAR
VERSION:2.0
PRODID:-//TSG Tübingen Lacrosse - ECPv6.15.20//NONSGML v1.0//EN
CALSCALE:GREGORIAN
METHOD:PUBLISH
X-ORIGINAL-URL:https://tuebingen-lacrosse.de
X-WR-CALDESC:Veranstaltungen für TSG Tübingen Lacrosse
REFRESH-INTERVAL;VALUE=DURATION:PT1H
X-Robots-Tag:noindex
X-PUBLISHED-TTL:PT1H
BEGIN:VTIMEZONE
TZID:UTC
BEGIN:STANDARD
TZOFFSETFROM:+0000
TZOFFSETTO:+0000
TZNAME:UTC
DTSTART:20210101T000000
END:STANDARD
END:VTIMEZONE
BEGIN:VEVENT
DTSTART;VALUE=DATE:20220902
DTEND;VALUE=DATE:20220905
DTSTAMP:20260425T020856
CREATED:20220531T150330Z
LAST-MODIFIED:20220531T150330Z
UID:610-1662076800-1662335999@tuebingen-lacrosse.de
SUMMARY:Beate Uhse-Cup
DESCRIPTION:
URL:https://tuebingen-lacrosse.de/event/beate-uhse-cup/
LOCATION:Würzburg Lacrosse\, Mergentheimerstr. 13c\, Würzburg\, 97082
CATEGORIES:Turnier
END:VEVENT
END:VCALENDAR