BEGIN:VCALENDAR
VERSION:2.0
PRODID:-//TSG Tübingen Lacrosse - ECPv6.15.20//NONSGML v1.0//EN
CALSCALE:GREGORIAN
METHOD:PUBLISH
X-WR-CALNAME:TSG Tübingen Lacrosse
X-ORIGINAL-URL:https://tuebingen-lacrosse.de
X-WR-CALDESC:Veranstaltungen für TSG Tübingen Lacrosse
REFRESH-INTERVAL;VALUE=DURATION:PT1H
X-Robots-Tag:noindex
X-PUBLISHED-TTL:PT1H
BEGIN:VTIMEZONE
TZID:UTC
BEGIN:STANDARD
TZOFFSETFROM:+0000
TZOFFSETTO:+0000
TZNAME:UTC
DTSTART:20210101T000000
END:STANDARD
END:VTIMEZONE
BEGIN:VEVENT
DTSTART;VALUE=DATE:20221009
DTEND;VALUE=DATE:20221010
DTSTAMP:20260425T004433
CREATED:20220901T113835Z
LAST-MODIFIED:20220911T104125Z
UID:668-1665273600-1665359999@tuebingen-lacrosse.de
SUMMARY:Herren B: Tübingen vs. Heilbronn/Karlsruhe
DESCRIPTION:
URL:https://tuebingen-lacrosse.de/event/herren-b-tuebingen-vs-heilbronn-karlsruhe/
LOCATION:ABV Stuttgart\, Guts-Muths-Weg 2\, Stuttgart\, 70597
CATEGORIES:Spieltag
END:VEVENT
BEGIN:VEVENT
DTSTART;VALUE=DATE:20221009
DTEND;VALUE=DATE:20221010
DTSTAMP:20260425T004433
CREATED:20220901T113952Z
LAST-MODIFIED:20220911T104036Z
UID:670-1665273600-1665359999@tuebingen-lacrosse.de
SUMMARY:Herren A: Stuttgart vs. Tübingen
DESCRIPTION:
URL:https://tuebingen-lacrosse.de/event/herren-a-stuttgart-vs-tuebingen/
LOCATION:ABV Stuttgart\, Guts-Muths-Weg 2\, Stuttgart\, 70597
CATEGORIES:Spieltag
END:VEVENT
END:VCALENDAR