BEGIN:VCALENDAR
VERSION:2.0
PRODID:-//TSG Tübingen Lacrosse - ECPv6.15.20//NONSGML v1.0//EN
CALSCALE:GREGORIAN
METHOD:PUBLISH
X-WR-CALNAME:TSG Tübingen Lacrosse
X-ORIGINAL-URL:https://tuebingen-lacrosse.de
X-WR-CALDESC:Veranstaltungen für TSG Tübingen Lacrosse
REFRESH-INTERVAL;VALUE=DURATION:PT1H
X-Robots-Tag:noindex
X-PUBLISHED-TTL:PT1H
BEGIN:VTIMEZONE
TZID:UTC
BEGIN:STANDARD
TZOFFSETFROM:+0000
TZOFFSETTO:+0000
TZNAME:UTC
DTSTART:20210101T000000
END:STANDARD
END:VTIMEZONE
BEGIN:VEVENT
DTSTART;VALUE=DATE:20221022
DTEND;VALUE=DATE:20221023
DTSTAMP:20260425T004902
CREATED:20220901T114424Z
LAST-MODIFIED:20220911T104323Z
UID:680-1666396800-1666483199@tuebingen-lacrosse.de
SUMMARY:Herren B: Konstanz/Freiburg vs. Tübingen
DESCRIPTION:
URL:https://tuebingen-lacrosse.de/event/herren-b-tuebingen-vs-konstanz-freiburg/
CATEGORIES:Spieltag
END:VEVENT
END:VCALENDAR