BEGIN:VCALENDAR
VERSION:2.0
PRODID:-//TSG Tübingen Lacrosse - ECPv6.15.20//NONSGML v1.0//EN
CALSCALE:GREGORIAN
METHOD:PUBLISH
X-ORIGINAL-URL:https://tuebingen-lacrosse.de
X-WR-CALDESC:Veranstaltungen für TSG Tübingen Lacrosse
REFRESH-INTERVAL;VALUE=DURATION:PT1H
X-Robots-Tag:noindex
X-PUBLISHED-TTL:PT1H
BEGIN:VTIMEZONE
TZID:UTC
BEGIN:STANDARD
TZOFFSETFROM:+0000
TZOFFSETTO:+0000
TZNAME:UTC
DTSTART:20220101T000000
END:STANDARD
END:VTIMEZONE
BEGIN:VEVENT
DTSTART;VALUE=DATE:20230401
DTEND;VALUE=DATE:20230402
DTSTAMP:20260424T171006
CREATED:20230118T124834Z
LAST-MODIFIED:20230118T124834Z
UID:888-1680307200-1680393599@tuebingen-lacrosse.de
SUMMARY:Damen: Tübingen vs. Stuttgart
DESCRIPTION:
URL:https://tuebingen-lacrosse.de/event/damen-tuebingen-vs-stuttgart-2/
LOCATION:TSG Tübingen\, Freibad 3\, Tübingen\, 72072
CATEGORIES:Spieltag
END:VEVENT
END:VCALENDAR