BEGIN:VCALENDAR
VERSION:2.0
PRODID:-//TSG Tübingen Lacrosse - ECPv6.15.20//NONSGML v1.0//EN
CALSCALE:GREGORIAN
METHOD:PUBLISH
X-ORIGINAL-URL:https://tuebingen-lacrosse.de
X-WR-CALDESC:Veranstaltungen für TSG Tübingen Lacrosse
REFRESH-INTERVAL;VALUE=DURATION:PT1H
X-Robots-Tag:noindex
X-PUBLISHED-TTL:PT1H
BEGIN:VTIMEZONE
TZID:UTC
BEGIN:STANDARD
TZOFFSETFROM:+0000
TZOFFSETTO:+0000
TZNAME:UTC
DTSTART:20220101T000000
END:STANDARD
END:VTIMEZONE
BEGIN:VEVENT
DTSTART;VALUE=DATE:20230506
DTEND;VALUE=DATE:20230507
DTSTAMP:20260424T154510
CREATED:20230118T125026Z
LAST-MODIFIED:20230327T090144Z
UID:892-1683331200-1683417599@tuebingen-lacrosse.de
SUMMARY:Damen: Tübingen vs. München
DESCRIPTION:
URL:https://tuebingen-lacrosse.de/event/damen-tuebingen-vs-muenchen-2/
LOCATION:HLC Rot-Weiß München\, Grasweg 67a\, 81373 München
CATEGORIES:Spieltag
END:VEVENT
BEGIN:VEVENT
DTSTART;VALUE=DATE:20230506
DTEND;VALUE=DATE:20230507
DTSTAMP:20260424T154510
CREATED:20230118T125122Z
LAST-MODIFIED:20230118T125122Z
UID:894-1683331200-1683417599@tuebingen-lacrosse.de
SUMMARY:Damen: Erlangen vs. Tübingen
DESCRIPTION:
URL:https://tuebingen-lacrosse.de/event/damen-erlangen-vs-tuebingen-2/
LOCATION:HLC Rot-Weiß München\, Grasweg 67a\, 81373 München
CATEGORIES:Spieltag
END:VEVENT
BEGIN:VEVENT
DTSTART;VALUE=DATE:20230506
DTEND;VALUE=DATE:20230507
DTSTAMP:20260424T154510
CREATED:20230310T152852Z
LAST-MODIFIED:20230310T152852Z
UID:932-1683331200-1683417599@tuebingen-lacrosse.de
SUMMARY:Herren B: Stuttgart vs. Tübingen
DESCRIPTION:
URL:https://tuebingen-lacrosse.de/event/herren-b-stuttgart-vs-tuebingen/
LOCATION:ABV Stuttgart\, Guts-Muths-Weg 2\, Stuttgart\, 70597
CATEGORIES:Spieltag
END:VEVENT
END:VCALENDAR