BEGIN:VCALENDAR
VERSION:2.0
PRODID:-//TSG Tübingen Lacrosse - ECPv6.15.20//NONSGML v1.0//EN
CALSCALE:GREGORIAN
METHOD:PUBLISH
X-WR-CALNAME:TSG Tübingen Lacrosse
X-ORIGINAL-URL:https://tuebingen-lacrosse.de
X-WR-CALDESC:Veranstaltungen für TSG Tübingen Lacrosse
REFRESH-INTERVAL;VALUE=DURATION:PT1H
X-Robots-Tag:noindex
X-PUBLISHED-TTL:PT1H
BEGIN:VTIMEZONE
TZID:UTC
BEGIN:STANDARD
TZOFFSETFROM:+0000
TZOFFSETTO:+0000
TZNAME:UTC
DTSTART:20210101T000000
END:STANDARD
END:VTIMEZONE
BEGIN:VEVENT
DTSTART;VALUE=DATE:20221105
DTEND;VALUE=DATE:20221106
DTSTAMP:20260424T221434
CREATED:20220901T114100Z
LAST-MODIFIED:20220911T104423Z
UID:672-1667606400-1667692799@tuebingen-lacrosse.de
SUMMARY:Herren B: Rhein-Neckar vs. Tübingen
DESCRIPTION:
URL:https://tuebingen-lacrosse.de/event/herren-b-rhein-neckar-vs-tuebingen/
CATEGORIES:Spieltag
END:VEVENT
BEGIN:VEVENT
DTSTART;VALUE=DATE:20221105
DTEND;VALUE=DATE:20221106
DTSTAMP:20260424T221434
CREATED:20220903T094826Z
LAST-MODIFIED:20220903T095218Z
UID:704-1667606400-1667692799@tuebingen-lacrosse.de
SUMMARY:Damen: Karlsruhe vs. Tübingen
DESCRIPTION:
URL:https://tuebingen-lacrosse.de/event/damen-tuebingen-vs-karlsruhe/
LOCATION:KIT SC 2010 e.V.\, Engler-Bunte-Ring 15\, Karlsruhe\, 76131
CATEGORIES:Spieltag
END:VEVENT
BEGIN:VEVENT
DTSTART;VALUE=DATE:20221106
DTEND;VALUE=DATE:20221107
DTSTAMP:20260424T221434
CREATED:20220901T113048Z
LAST-MODIFIED:20220911T104512Z
UID:662-1667692800-1667779199@tuebingen-lacrosse.de
SUMMARY:Herren A: Karlsruhe vs. Tübingen
DESCRIPTION:
URL:https://tuebingen-lacrosse.de/event/herren-a-tuebingen-vs-karlsruhe/
LOCATION:KIT SC 2010 e.V.\, Engler-Bunte-Ring 15\, Karlsruhe\, 76131
CATEGORIES:Spieltag
END:VEVENT
BEGIN:VEVENT
DTSTART;VALUE=DATE:20221113
DTEND;VALUE=DATE:20221114
DTSTAMP:20260424T221434
CREATED:20220901T113303Z
LAST-MODIFIED:20220911T104551Z
UID:664-1668297600-1668383999@tuebingen-lacrosse.de
SUMMARY:Herren A: Erlangen vs. Tübingen
DESCRIPTION:
URL:https://tuebingen-lacrosse.de/event/herren-a-erlangen-vs-tuebingen/
LOCATION:Erlangen TB 1888\, Spardorfer Str. 79\, Erlangen\, 91054\, Deutschland
CATEGORIES:Spieltag
END:VEVENT
BEGIN:VEVENT
DTSTART;VALUE=DATE:20221120
DTEND;VALUE=DATE:20221121
DTSTAMP:20260424T221434
CREATED:20220901T114245Z
LAST-MODIFIED:20220901T114245Z
UID:676-1668902400-1668988799@tuebingen-lacrosse.de
SUMMARY:Herren A: Tübingen vs. München
DESCRIPTION:
URL:https://tuebingen-lacrosse.de/event/herren-a-tuebingen-vs-muenchen/
LOCATION:TSG Tübingen\, Freibad 3\, Tübingen\, 72072
CATEGORIES:Spieltag
END:VEVENT
BEGIN:VEVENT
DTSTART;VALUE=DATE:20221120
DTEND;VALUE=DATE:20221121
DTSTAMP:20260424T221434
CREATED:20220903T095354Z
LAST-MODIFIED:20220903T095405Z
UID:709-1668902400-1668988799@tuebingen-lacrosse.de
SUMMARY:Damen: Tübingen vs. München
DESCRIPTION:
URL:https://tuebingen-lacrosse.de/event/damen-tuebingen-vs-muenchen/
LOCATION:TSG Tübingen\, Freibad 3\, Tübingen\, 72072
CATEGORIES:Spieltag
END:VEVENT
BEGIN:VEVENT
DTSTART;VALUE=DATE:20221126
DTEND;VALUE=DATE:20221127
DTSTAMP:20260424T221434
CREATED:20220901T114343Z
LAST-MODIFIED:20220911T104636Z
UID:678-1669420800-1669507199@tuebingen-lacrosse.de
SUMMARY:Herren A: Tübingen vs. Freiburg
DESCRIPTION:
URL:https://tuebingen-lacrosse.de/event/herren-a-tuebingen-vs-freiburg/
LOCATION:TSG Tübingen\, Freibad 3\, Tübingen\, 72072
CATEGORIES:Spieltag
END:VEVENT
BEGIN:VEVENT
DTSTART;VALUE=DATE:20221126
DTEND;VALUE=DATE:20221127
DTSTAMP:20260424T221434
CREATED:20220903T095442Z
LAST-MODIFIED:20220903T095442Z
UID:711-1669420800-1669507199@tuebingen-lacrosse.de
SUMMARY:Damen: Stuttgart vs. Tübingen
DESCRIPTION:
URL:https://tuebingen-lacrosse.de/event/damen-stuttgart-vs-tuebingen/
LOCATION:ABV Stuttgart\, Guts-Muths-Weg 2\, Stuttgart\, 70597
CATEGORIES:Spieltag
END:VEVENT
BEGIN:VEVENT
DTSTART;VALUE=DATE:20221127
DTEND;VALUE=DATE:20221128
DTSTAMP:20260424T221434
CREATED:20220901T114155Z
LAST-MODIFIED:20220911T104702Z
UID:674-1669507200-1669593599@tuebingen-lacrosse.de
SUMMARY:Herren B: Tübingen vs. Stuttgart
DESCRIPTION:
URL:https://tuebingen-lacrosse.de/event/herren-b-tuebingen-vs-stuttgart/
LOCATION:TSG Tübingen\, Freibad 3\, Tübingen\, 72072
CATEGORIES:Spieltag
END:VEVENT
END:VCALENDAR